BEGIN:VCALENDAR
VERSION:2.0
PRODID:-//Liberty Hill Missionary Baptist Church - ECPv6.15.15//NONSGML v1.0//EN
CALSCALE:GREGORIAN
METHOD:PUBLISH
X-WR-CALNAME:Liberty Hill Missionary Baptist Church
X-ORIGINAL-URL:https://libertyhill-mbc.com
X-WR-CALDESC:Events for Liberty Hill Missionary Baptist Church
REFRESH-INTERVAL;VALUE=DURATION:PT1H
X-Robots-Tag:noindex
X-PUBLISHED-TTL:PT1H
BEGIN:VTIMEZONE
TZID:America/New_York
BEGIN:DAYLIGHT
TZOFFSETFROM:-0500
TZOFFSETTO:-0400
TZNAME:EDT
DTSTART:20240310T070000
END:DAYLIGHT
BEGIN:STANDARD
TZOFFSETFROM:-0400
TZOFFSETTO:-0500
TZNAME:EST
DTSTART:20241103T060000
END:STANDARD
BEGIN:DAYLIGHT
TZOFFSETFROM:-0500
TZOFFSETTO:-0400
TZNAME:EDT
DTSTART:20250309T070000
END:DAYLIGHT
BEGIN:STANDARD
TZOFFSETFROM:-0400
TZOFFSETTO:-0500
TZNAME:EST
DTSTART:20251102T060000
END:STANDARD
BEGIN:DAYLIGHT
TZOFFSETFROM:-0500
TZOFFSETTO:-0400
TZNAME:EDT
DTSTART:20260308T070000
END:DAYLIGHT
BEGIN:STANDARD
TZOFFSETFROM:-0400
TZOFFSETTO:-0500
TZNAME:EST
DTSTART:20261101T060000
END:STANDARD
END:VTIMEZONE
BEGIN:VEVENT
DTSTART;TZID=America/New_York:20251028T180000
DTEND;TZID=America/New_York:20251028T190000
DTSTAMP:20260419T234108
CREATED:20250807T214114Z
LAST-MODIFIED:20251024T232854Z
UID:692-1761674400-1761678000@libertyhill-mbc.com
SUMMARY:Raising Highly Capable Kids
DESCRIPTION:Raising Highly Capable Kids (RHCK) is a 13-week\, evidence-based parenting program designed to strengthen families by equipping parents with the confidence\, tools\, and skills to nurture healthy\, compassionate\, and responsible children. Fill out the form below to register for this free event. \n  \nFirst NameLast NameEmail Address *Confirm Email Address *Phone *Street Address *Apartment\, suite\, etcCity *State/Province *ZIP / Postal Code *Number of ChildrenNumber of children coming with parent.Registration for Raising Highly Capable Kids ClassFilling out this form will register you for the class to be held beginning August 26th\, at Liberty Hill MBCAdd any special information concerning children such as allergies\, etc. Submit
URL:https://libertyhill-mbc.com/event/raising-highly-capable-kids/
LOCATION:Liberty Hill MBC Sanctuary\, 1053 Liberty Hill RD\, Marietta\, GA\, 30066\, United States
END:VEVENT
END:VCALENDAR