BEGIN:VCALENDAR
VERSION:2.0
PRODID:-//Liberty Hill Missionary Baptist Church - ECPv6.15.15//NONSGML v1.0//EN
CALSCALE:GREGORIAN
METHOD:PUBLISH
X-ORIGINAL-URL:https://libertyhill-mbc.com
X-WR-CALDESC:Events for Liberty Hill Missionary Baptist Church
REFRESH-INTERVAL;VALUE=DURATION:PT1H
X-Robots-Tag:noindex
X-PUBLISHED-TTL:PT1H
BEGIN:VTIMEZONE
TZID:America/New_York
BEGIN:DAYLIGHT
TZOFFSETFROM:-0500
TZOFFSETTO:-0400
TZNAME:EDT
DTSTART:20240310T070000
END:DAYLIGHT
BEGIN:STANDARD
TZOFFSETFROM:-0400
TZOFFSETTO:-0500
TZNAME:EST
DTSTART:20241103T060000
END:STANDARD
BEGIN:DAYLIGHT
TZOFFSETFROM:-0500
TZOFFSETTO:-0400
TZNAME:EDT
DTSTART:20250309T070000
END:DAYLIGHT
BEGIN:STANDARD
TZOFFSETFROM:-0400
TZOFFSETTO:-0500
TZNAME:EST
DTSTART:20251102T060000
END:STANDARD
BEGIN:DAYLIGHT
TZOFFSETFROM:-0500
TZOFFSETTO:-0400
TZNAME:EDT
DTSTART:20260308T070000
END:DAYLIGHT
BEGIN:STANDARD
TZOFFSETFROM:-0400
TZOFFSETTO:-0500
TZNAME:EST
DTSTART:20261101T060000
END:STANDARD
BEGIN:DAYLIGHT
TZOFFSETFROM:-0500
TZOFFSETTO:-0400
TZNAME:EDT
DTSTART:20270314T070000
END:DAYLIGHT
BEGIN:STANDARD
TZOFFSETFROM:-0400
TZOFFSETTO:-0500
TZNAME:EST
DTSTART:20271107T060000
END:STANDARD
END:VTIMEZONE
BEGIN:VEVENT
DTSTART;TZID=America/New_York:20251026T100000
DTEND;TZID=America/New_York:20251026T120000
DTSTAMP:20260420T030555
CREATED:20251006T005348Z
LAST-MODIFIED:20251006T010211Z
UID:551-1761472800-1761480000@libertyhill-mbc.com
SUMMARY:Family and Friends Day
DESCRIPTION:Join us for a joyful celebration of love\, unity\, and fellowship at our Family and Friends Day! \nCome experience uplifting worship\, inspiring messages\, and a spirit-filled atmosphere as we honor the gift of familly and friends. Whether you’re a longtime member or a first-time guest\, we can’t wait to welcome you!
URL:https://libertyhill-mbc.com/event/friends-and-family-day/
CATEGORIES:Adults,Kids,Men,Seniors,Students
END:VEVENT
BEGIN:VEVENT
DTSTART;TZID=America/New_York:20251027T070000
DTEND;TZID=America/New_York:20251027T193000
DTSTAMP:20260420T030555
CREATED:20250525T192332Z
LAST-MODIFIED:20251024T232746Z
UID:582-1761548400-1761593400@libertyhill-mbc.com
SUMMARY:Monday Prayer
DESCRIPTION:For where two or three are gathered in my name\, there am I among them. — Matthew 18:20 \nlink Meet:  https://meet.google.com/mzb-qmqn-btx \nPhone: +1 413-340-2436  Pin: 718 452
URL:https://libertyhill-mbc.com/event/monday-prayer/
LOCATION:Online
END:VEVENT
BEGIN:VEVENT
DTSTART;TZID=America/New_York:20251028T180000
DTEND;TZID=America/New_York:20251028T190000
DTSTAMP:20260420T030555
CREATED:20250807T214114Z
LAST-MODIFIED:20251024T232854Z
UID:692-1761674400-1761678000@libertyhill-mbc.com
SUMMARY:Raising Highly Capable Kids
DESCRIPTION:Raising Highly Capable Kids (RHCK) is a 13-week\, evidence-based parenting program designed to strengthen families by equipping parents with the confidence\, tools\, and skills to nurture healthy\, compassionate\, and responsible children. Fill out the form below to register for this free event. \n  \nFirst NameLast NameEmail Address *Confirm Email Address *Phone *Street Address *Apartment\, suite\, etcCity *State/Province *ZIP / Postal Code *Number of ChildrenNumber of children coming with parent.Registration for Raising Highly Capable Kids ClassFilling out this form will register you for the class to be held beginning August 26th\, at Liberty Hill MBCAdd any special information concerning children such as allergies\, etc. Submit
URL:https://libertyhill-mbc.com/event/raising-highly-capable-kids/
LOCATION:Liberty Hill MBC Sanctuary\, 1053 Liberty Hill RD\, Marietta\, GA\, 30066\, United States
END:VEVENT
BEGIN:VEVENT
DTSTART;TZID=America/New_York:20251101T180000
DTEND;TZID=America/New_York:20251101T210000
DTSTAMP:20260420T030555
CREATED:20250815T185408Z
LAST-MODIFIED:20251024T233051Z
UID:539-1762020000-1762030800@libertyhill-mbc.com
SUMMARY:Movie and Grill on the Lawn
DESCRIPTION:Movie & Grill on the Lawn – A Perfect Summer Evening!\nGet ready for a fun evening under the stars!   Movie & Grill on the Lawn event is your chance to kick back with friends and family\, enjoy delicious grilled eats\, and watch a blockbuster film. \nShow time:  7:00pm  — bring your blankets and lawn chairs!
URL:https://libertyhill-mbc.com/event/movie-and-grill-on-the-lawn/
CATEGORIES:Adults,Kids,Men,Seniors,Students
END:VEVENT
BEGIN:VEVENT
DTSTART;TZID=America/New_York:20251102T110000
DTEND;TZID=America/New_York:20251102T110000
DTSTAMP:20260420T030555
CREATED:20250520T133450Z
LAST-MODIFIED:20251024T232954Z
UID:439-1762081200-1762081200@libertyhill-mbc.com
SUMMARY:Holy Communion
DESCRIPTION:Share in the Lord’s Supper! \nJoin us as we partake in Holy Communion\, remembering Christ’s sacrifice and His everlasting love for us. As 1 Corinthians 11:24-25 reminds us: \n“…This is My body\, which is for you; do this in remembrance of Me… This cup is the new covenant in My blood; do this\, whenever you drink it\, in remembrance of Me.” \nLet us come together in faith\, gratitude\, and unity as we celebrate this sacred time of fellowship and renewal.
URL:https://libertyhill-mbc.com/event/holy-communion/
LOCATION:Liberty Hill MBC Sanctuary\, 1053 Liberty Hill RD\, Marietta\, GA\, 30066\, United States
CATEGORIES:Adults,Men,Seniors,Students
END:VEVENT
BEGIN:VEVENT
DTSTART;TZID=America/New_York:20251108T100000
DTEND;TZID=America/New_York:20251108T230000
DTSTAMP:20260420T030555
CREATED:20250520T155924Z
LAST-MODIFIED:20251024T232642Z
UID:474-1762596000-1762642800@libertyhill-mbc.com
SUMMARY:Community Food Giveaway
DESCRIPTION:Serving Our Community with Love! \nLiberty Hill and Forever Feed are dedicated to making a difference by providing groceries to those in need. Join us every second Saturday of the month\, starting at 10:00 AM\, as we come together to serve and uplift our community.
URL:https://libertyhill-mbc.com/event/community-food-drive-giveaway/
CATEGORIES:Adults,Kids,Men,Seniors,Students,Women
END:VEVENT
BEGIN:VEVENT
DTSTART;TZID=America/New_York:20260323T180000
DTEND;TZID=America/New_York:20260327T200000
DTSTAMP:20260420T030555
CREATED:20260312T192746Z
LAST-MODIFIED:20260312T194023Z
UID:909-1774288800-1774641600@libertyhill-mbc.com
SUMMARY:Discovering Your Spiritual Gifts
DESCRIPTION:Click on the QR code to make your payment for the class registration fee\, and once you have completed payment\, click on the link to complete your registration for the class and to receive the class materials. \n \n \n  \nhttps://forms.gle/ZsVuxKwCRhU9X1hX6
URL:https://libertyhill-mbc.com/event/discovering-your-spiritual-gifts/
END:VEVENT
END:VCALENDAR