BEGIN:VCALENDAR
VERSION:2.0
PRODID:-//Liberty Hill Missionary Baptist Church - ECPv6.15.15//NONSGML v1.0//EN
CALSCALE:GREGORIAN
METHOD:PUBLISH
X-WR-CALNAME:Liberty Hill Missionary Baptist Church
X-ORIGINAL-URL:https://libertyhill-mbc.com
X-WR-CALDESC:Events for Liberty Hill Missionary Baptist Church
REFRESH-INTERVAL;VALUE=DURATION:PT1H
X-Robots-Tag:noindex
X-PUBLISHED-TTL:PT1H
BEGIN:VTIMEZONE
TZID:America/New_York
BEGIN:DAYLIGHT
TZOFFSETFROM:-0500
TZOFFSETTO:-0400
TZNAME:EDT
DTSTART:20240310T070000
END:DAYLIGHT
BEGIN:STANDARD
TZOFFSETFROM:-0400
TZOFFSETTO:-0500
TZNAME:EST
DTSTART:20241103T060000
END:STANDARD
BEGIN:DAYLIGHT
TZOFFSETFROM:-0500
TZOFFSETTO:-0400
TZNAME:EDT
DTSTART:20250309T070000
END:DAYLIGHT
BEGIN:STANDARD
TZOFFSETFROM:-0400
TZOFFSETTO:-0500
TZNAME:EST
DTSTART:20251102T060000
END:STANDARD
BEGIN:DAYLIGHT
TZOFFSETFROM:-0500
TZOFFSETTO:-0400
TZNAME:EDT
DTSTART:20260308T070000
END:DAYLIGHT
BEGIN:STANDARD
TZOFFSETFROM:-0400
TZOFFSETTO:-0500
TZNAME:EST
DTSTART:20261101T060000
END:STANDARD
END:VTIMEZONE
BEGIN:VTIMEZONE
TZID:UTC
BEGIN:STANDARD
TZOFFSETFROM:+0000
TZOFFSETTO:+0000
TZNAME:UTC
DTSTART:20230101T000000
END:STANDARD
END:VTIMEZONE
BEGIN:VEVENT
DTSTART;TZID=America/New_York:20250915T063000
DTEND;TZID=America/New_York:20250915T203000
DTSTAMP:20260420T003958
CREATED:20250915T133047Z
LAST-MODIFIED:20250915T203754Z
UID:877-1757917800-1757968200@libertyhill-mbc.com
SUMMARY:Special Prayer - Making Room for the Next Generation
DESCRIPTION:Join Us for Prayer\nWe invite you to gather with us in unity and faith on two powerful occasions: \nMonday\, September 15th | 6:30 PM – 8:00 PM\nSunday\, September 21st | Immediately Following Worship Service \nThese are holy moments times set apart to seek God together.\nWe lift our voices in intercession\, thanksgiving\, and hope\, united in prayer. As we gather\, we pray for one another\, for our families\, for our nation\, and for the special intention of the campaign to make room for the next generation. \nAs Philippians 4:6–7 reminds us:\n“Do not be anxious about anything\, but in every situation\, by prayer and petition\, with thanksgiving\, present your requests to God. And the peace of God… will guard your hearts and your minds in Christ Jesus.” \nLet’s embrace these divine opportunities. We look forward to seeing you and standing together in faith. \nAll are welcome. \n 
URL:https://libertyhill-mbc.com/event/corporate-prayer/
END:VEVENT
BEGIN:VEVENT
DTSTART;TZID=America/New_York:20250907T120000
DTEND;TZID=America/New_York:20250907T160000
DTSTAMP:20260420T003958
CREATED:20250830T005310Z
LAST-MODIFIED:20250830T005330Z
UID:742-1757246400-1757260800@libertyhill-mbc.com
SUMMARY:Men & Women Joint Fellowship Luncheon
DESCRIPTION:Men & Women Joint Fellowship Luncheon \nPlease join us for a special time of fellowship immediately following the service.\n📍 Venue: Mountain View Community Center\n3400 Sandy Plains Road\nMarietta\, GA 30066\nMen are kindly asked to leave out following the service to assist with setting up the tables. The meal will be catered and served shortly thereafter. \nWe look forward to sharing this meaningful time together.e. \n 
URL:https://libertyhill-mbc.com/event/men-women-joint-fellowship-luncheon/
END:VEVENT
BEGIN:VEVENT
DTSTART;TZID=America/New_York:20250907T100000
DTEND;TZID=America/New_York:20250907T110000
DTSTAMP:20260420T003958
CREATED:20250821T203940Z
LAST-MODIFIED:20250821T204842Z
UID:735-1757239200-1757242800@libertyhill-mbc.com
SUMMARY:Boys II Men Raising Kings
DESCRIPTION:  \n \n\nA New Journey Begins at LHBC!\nWe’re excited to announce the launch of The King’s Men Ministry at Liberty Hill—starting Sunday\, September 7\, 2025\, from 10:00–11:00 a.m.\n\n\n\nThis ministry is designed to walk with boys ages 8–17 as they grow into godly men—through mentorship\, biblical truth\, life skills\, and brotherhood.\n\n\n\nBrother Tim Emerson\, a faithful son of LHBC and North Cobb graduate\, will lead this vital work. I’m proud to serve alongside Tim as we answer the call to shape the next generation.\n\n\nParents and grandparents—bring your sons\, grandsons\, and their friends! Let them be part of something that will speak to their identity\, character\, and future.\n\n\n“Train up a child in the way he should go; even when he is old he will not depart from it.” – Proverbs 22:6\n\n\n\nLet’s raise kings together.\n\n\n\nPastor Amos\n\n  \n 
URL:https://libertyhill-mbc.com/event/boys-ii-men-raising-kings/
CATEGORIES:Kids
END:VEVENT
BEGIN:VEVENT
DTSTART;VALUE=DATE:20250907
DTEND;VALUE=DATE:20251001
DTSTAMP:20260420T003958
CREATED:20250907T162634Z
LAST-MODIFIED:20250907T163305Z
UID:861-1757203200-1759276799@libertyhill-mbc.com
SUMMARY:Donation Drive
DESCRIPTION:  \n \nWe’re collecting essential items to bring comfort and joy  to the residents. Let’s show our elders that they are remembered\, valued\, and loved. Every item counts and every act of kindness echoes.
URL:https://libertyhill-mbc.com/event/donation-drive/
END:VEVENT
BEGIN:VEVENT
DTSTART;TZID=America/New_York:20250830T170000
DTEND;TZID=America/New_York:20250830T190000
DTSTAMP:20260420T003958
CREATED:20250730T012455Z
LAST-MODIFIED:20250730T012537Z
UID:622-1756573200-1756580400@libertyhill-mbc.com
SUMMARY:Sounds of Worship
DESCRIPTION:
URL:https://libertyhill-mbc.com/event/sounds-of-worship/
LOCATION:Liberty Hill MBC Sanctuary\, 1053 Liberty Hill RD\, Marietta\, GA\, 30066\, United States
END:VEVENT
BEGIN:VEVENT
DTSTART;TZID=America/New_York:20250816T130000
DTEND;TZID=America/New_York:20250816T160000
DTSTAMP:20260420T003958
CREATED:20250730T005429Z
LAST-MODIFIED:20250730T005542Z
UID:616-1755349200-1755360000@libertyhill-mbc.com
SUMMARY:Twin Gun Shooting
DESCRIPTION:
URL:https://libertyhill-mbc.com/event/twin-gun-shooting/
LOCATION:Liberty Hill MBC Sanctuary\, 1053 Liberty Hill RD\, Marietta\, GA\, 30066\, United States
END:VEVENT
BEGIN:VEVENT
DTSTART;TZID=America/New_York:20250803T120000
DTEND;TZID=America/New_York:20250803T150000
DTSTAMP:20260420T003958
CREATED:20250519T183240Z
LAST-MODIFIED:20250730T005827Z
UID:426-1754222400-1754233200@libertyhill-mbc.com
SUMMARY:Mens Fellowship
DESCRIPTION:
URL:https://libertyhill-mbc.com/event/mens-fellowship/
CATEGORIES:Adults,Men,Seniors
END:VEVENT
BEGIN:VEVENT
DTSTART;TZID=America/New_York:20250803T120000
DTEND;TZID=America/New_York:20250803T143000
DTSTAMP:20260420T003958
CREATED:20250520T134347Z
LAST-MODIFIED:20250730T010022Z
UID:449-1754222400-1754231400@libertyhill-mbc.com
SUMMARY:Women's Fellowship Luncheon
DESCRIPTION:Join us for the Women’s Ministry Fellowship right after church service every first Sunday of the month. It’s a wonderful opportunity to connect\, uplift\, and enjoy meaningful conversation over a meal. Locations will be announced ahead of each luncheon—stay tuned! \nLooking forward to seeing you there!
URL:https://libertyhill-mbc.com/event/womens-fellowship-luncheon/
LOCATION:Canton Cook\, 2063 Canton Rd\, Mrietta\, GA\, 30066\, United States
CATEGORIES:Women
END:VEVENT
BEGIN:VEVENT
DTSTART;TZID=America/New_York:20250727T100000
DTEND;TZID=America/New_York:20250727T120000
DTSTAMP:20260420T003958
CREATED:20250720T213830Z
LAST-MODIFIED:20250720T213830Z
UID:496-1753610400-1753617600@libertyhill-mbc.com
SUMMARY:Church Anniversary
DESCRIPTION:Come join us as we unite in gratitude and joy to celebrate our 158th Church Anniversary—honoring God’s unwavering faithfulness through the years. Together\, we rejoice in His goodness and look forward to the blessings yet to come.
URL:https://libertyhill-mbc.com/event/church-anniversary/
LOCATION:Liberty Hill MBC Sanctuary\, 1053 Liberty Hill RD\, Marietta\, GA\, 30066\, United States
CATEGORIES:Adults,Kids,Men,Seniors,Students,Women
END:VEVENT
BEGIN:VEVENT
DTSTART;TZID=America/New_York:20250726T140000
DTEND;TZID=America/New_York:20250726T160000
DTSTAMP:20260420T003958
CREATED:20250705T164314Z
LAST-MODIFIED:20250705T164314Z
UID:494-1753538400-1753545600@libertyhill-mbc.com
SUMMARY:Back to School Bash
DESCRIPTION:
URL:https://libertyhill-mbc.com/event/back-to-school-bash/
CATEGORIES:Adults,Kids,Men,Seniors,Students
END:VEVENT
BEGIN:VEVENT
DTSTART;TZID=America/New_York:20250622T100000
DTEND;TZID=America/New_York:20250622T120000
DTSTAMP:20260420T003958
CREATED:20250520T154941Z
LAST-MODIFIED:20250609T014106Z
UID:458-1750586400-1750593600@libertyhill-mbc.com
SUMMARY:Pastor Anniversary
DESCRIPTION:Honoring 25 Years of Faithful Service! \nJoin us as we celebrate Pastor and First Lady Diana Williams on their 25th Anniversary of leadership\, dedication\, and unwavering service to our congregation.
URL:https://libertyhill-mbc.com/event/pastor-anniversary/
CATEGORIES:Adults,Kids,Men,Seniors,Students,Women
END:VEVENT
BEGIN:VEVENT
DTSTART;TZID=America/New_York:20250621T080000
DTEND;TZID=America/New_York:20250621T170000
DTSTAMP:20260420T003958
CREATED:20250525T190646Z
LAST-MODIFIED:20250525T190657Z
UID:469-1750492800-1750525200@libertyhill-mbc.com
SUMMARY:Youth Bowling Outing
DESCRIPTION:
URL:https://libertyhill-mbc.com/event/youth-bowling-outing/
CATEGORIES:Adults,Kids,Men,Seniors,Students
END:VEVENT
BEGIN:VEVENT
DTSTART;TZID=America/New_York:20250615T100000
DTEND;TZID=America/New_York:20250615T120000
DTSTAMP:20260420T003958
CREATED:20250520T161955Z
LAST-MODIFIED:20250521T230834Z
UID:460-1749981600-1749988800@libertyhill-mbc.com
SUMMARY:Father's Day
DESCRIPTION:Honoring Fathers with Love & Gratitude \nOn this Father’s Day\, we celebrate and honor the incredible fathers\, grandfathers\, and father figures who have guided\, supported\, and shaped our lives with wisdom and love. Their strength\, devotion\, and sacrifices inspire us daily. \nProverbs 20:7 reminds us: “The righteous who walks in his integrity—blessed are his children after him.”
URL:https://libertyhill-mbc.com/event/fathers-day/
CATEGORIES:Adults,Kids,Men,Seniors,Students,Women
END:VEVENT
BEGIN:VEVENT
DTSTART;TZID=America/New_York:20250608T100000
DTEND;TZID=America/New_York:20250608T120000
DTSTAMP:20260420T003958
CREATED:20250521T013108Z
LAST-MODIFIED:20250521T230937Z
UID:520-1749376800-1749384000@libertyhill-mbc.com
SUMMARY:Youth Service
DESCRIPTION:
URL:https://libertyhill-mbc.com/event/youth-service/
CATEGORIES:Adults,Kids,Men,Seniors,Students,Women
END:VEVENT
BEGIN:VEVENT
DTSTART;TZID=America/New_York:20250607T000000
DTEND;TZID=America/New_York:20250607T150000
DTSTAMP:20260420T003958
CREATED:20250521T021243Z
LAST-MODIFIED:20250525T184840Z
UID:456-1749254400-1749308400@libertyhill-mbc.com
SUMMARY:Father's Luncheon
DESCRIPTION:
URL:https://libertyhill-mbc.com/event/fathers-luncheon/
LOCATION:Liberty Hill MBC Fellowship Hall\, 1053 Liberty Hill Road\, Marietta\, GA\, 30066\, United States
CATEGORIES:Men
END:VEVENT
BEGIN:VEVENT
DTSTART;VALUE=DATE:20250526
DTEND;VALUE=DATE:20250527
DTSTAMP:20260420T003958
CREATED:20250521T013748Z
LAST-MODIFIED:20250521T013823Z
UID:522-1748217600-1748303999@libertyhill-mbc.com
SUMMARY:Memorial Day
DESCRIPTION:
URL:https://libertyhill-mbc.com/event/memorial-day/
END:VEVENT
BEGIN:VEVENT
DTSTART;TZID=America/New_York:20250525T100000
DTEND;TZID=America/New_York:20250525T120000
DTSTAMP:20260420T003958
CREATED:20250520T135032Z
LAST-MODIFIED:20250521T010719Z
UID:453-1748167200-1748174400@libertyhill-mbc.com
SUMMARY:Graduation Recognition
DESCRIPTION:
URL:https://libertyhill-mbc.com/event/graduation-recognition/
LOCATION:Liberty Hill MBC Sanctuary\, 1053 Liberty Hill RD\, Marietta\, GA\, 30066\, United States
END:VEVENT
BEGIN:VEVENT
DTSTART;TZID=America/New_York:20250524T100000
DTEND;TZID=America/New_York:20250524T120000
DTSTAMP:20260420T003958
CREATED:20250520T134739Z
LAST-MODIFIED:20250522T180503Z
UID:451-1748080800-1748088000@libertyhill-mbc.com
SUMMARY:Next Gen Summit
DESCRIPTION:  \nJoin Us for the Next Gen Summit! \nWe’re excited to welcome you to our upcoming Next Gen Summit\, where voices come together to collaborate\, share ideas\, and engage in meaningful discussions. This is your opportunity to bring your questions\, comments\, and concerns to the table as we shape the future together. \nDon’t miss out—your input matters! \n 
URL:https://libertyhill-mbc.com/event/next-gen-summit/
LOCATION:Liberty Hill MBC Sanctuary\, 1053 Liberty Hill RD\, Marietta\, GA\, 30066\, United States
END:VEVENT
BEGIN:VEVENT
DTSTART;TZID=UTC:20241125T080000
DTEND;TZID=UTC:20241125T170000
DTSTAMP:20260420T003958
CREATED:20240920T222905Z
LAST-MODIFIED:20240920T222905Z
UID:402-1732521600-1732554000@libertyhill-mbc.com
SUMMARY:Test Event
DESCRIPTION:This event is not really happening\, but we want to see what the Event plugin will do for us and how events will look. Please send your next 1-3 events so we can get them loaded in. Consider Christmas as well! Have Christmas graphics? Send those too! And\, if you need Christmas graphics my team has pre-designed art we can customize for you. Just reach out and let us know if we can help with that!
URL:https://libertyhill-mbc.com/event/test-event/
CATEGORIES:Adults,Kids,Seniors,Students
ATTACH;FMTTYPE=image/png:https://libertyhill-mbc.com/wp-content/uploads/2024/09/Blue-Illustrated-Fall-Festival-Instagram-Post-3.png
END:VEVENT
END:VCALENDAR